BEGIN:VCALENDAR
VERSION:2.0
PRODID:-//Tukios.com/
BEGIN:VEVENT
UID:bb712302-173b-474d-9840-ee929d567ebd@obituaries.leememorialonline.com
DTSTAMP:20260421T125137Z
DTSTART:20260417T180000Z
DTEND:20260417T190000Z
SUMMARY:Visitation
DESCRIPTION:
URL:https://obituaries.leememorialonline.com/obituaries/robert-davis
LOCATION: 5257 Raymond Ave  Tupelo MS 38801
GEO:34.1764574;-88.7211273
END:VEVENT
END:VCALENDAR